Package: beer Version: 1.11.0 Command: /Library/Frameworks/R.framework/Resources/bin/R CMD INSTALL beer StartedAt: 2025-02-09 15:14:24 -0500 (Sun, 09 Feb 2025) EndedAt: 2025-02-09 15:14:35 -0500 (Sun, 09 Feb 2025) EllapsedTime: 11.0 seconds RetCode: 0 Status: OK