Package: beer Version: 1.11.0 Command: /home/biocbuild/R/R/bin/R CMD INSTALL beer StartedAt: 2025-01-29 20:03:31 -0000 (Wed, 29 Jan 2025) EndedAt: 2025-01-29 20:04:11 -0000 (Wed, 29 Jan 2025) EllapsedTime: 39.5 seconds RetCode: 0 Status: OK