Package: beer Version: 1.11.0 Command: /Library/Frameworks/R.framework/Resources/bin/R CMD INSTALL beer StartedAt: 2025-02-12 15:23:13 -0500 (Wed, 12 Feb 2025) EndedAt: 2025-02-12 15:23:52 -0500 (Wed, 12 Feb 2025) EllapsedTime: 39.2 seconds RetCode: 0 Status: OK