Package: beer Version: 1.11.0 Command: /home/biocbuild/bbs-3.21-bioc/R/bin/R CMD check --install=check:beer.install-out.txt --library=/home/biocbuild/bbs-3.21-bioc/R/site-library --timings beer_1.11.0.tar.gz StartedAt: 2025-02-09 20:17:32 -0500 (Sun, 09 Feb 2025) EndedAt: 2025-02-09 20:26:09 -0500 (Sun, 09 Feb 2025) EllapsedTime: 516.8 seconds RetCode: 0 Status: OK CheckDir: beer.Rcheck Warnings: 0