Package: beer Version: 1.11.0 Command: /home/biocbuild/bbs-3.21-bioc/R/bin/R CMD INSTALL beer StartedAt: 2025-02-09 15:49:44 -0500 (Sun, 09 Feb 2025) EndedAt: 2025-02-09 15:50:11 -0500 (Sun, 09 Feb 2025) EllapsedTime: 27.3 seconds RetCode: 0 Status: OK