Package: benchdamic Version: 1.13.2 Command: rm -rf benchdamic.buildbin-libdir && mkdir benchdamic.buildbin-libdir && /Users/biocbuild/BBS/utils/build-universal.sh benchdamic_1.13.2.tar.gz /Library/Frameworks/R.framework/Resources/bin/R benchdamic.buildbin-libdir StartedAt: 2025-02-04 22:08:45 -0500 (Tue, 04 Feb 2025) EndedAt: 2025-02-04 22:09:15 -0500 (Tue, 04 Feb 2025) EllapsedTime: 29.6 seconds RetCode: 0 Status: OK PackageFile: benchdamic_1.13.2.tgz PackageFileSize: 5.763 MiB