Package: benchdamic Version: 1.13.2 Command: /home/biocbuild/bbs-3.21-bioc/R/bin/R CMD build --keep-empty-dirs --no-resave-data benchdamic StartedAt: 2025-02-09 16:17:51 -0500 (Sun, 09 Feb 2025) EndedAt: 2025-02-09 16:38:28 -0500 (Sun, 09 Feb 2025) EllapsedTime: 1237.3 seconds RetCode: 0 Status: OK PackageFile: benchdamic_1.13.2.tar.gz PackageFileSize: 5.448 MiB