Package: benchdamic Version: 1.13.2 Command: /home/biocbuild/bbs-3.21-bioc/R/bin/R CMD INSTALL benchdamic StartedAt: 2025-02-12 15:28:59 -0500 (Wed, 12 Feb 2025) EndedAt: 2025-02-12 15:30:07 -0500 (Wed, 12 Feb 2025) EllapsedTime: 67.9 seconds RetCode: 0 Status: OK