Package: benchdamic Version: 1.13.2 Command: rm -rf benchdamic.buildbin-libdir && mkdir benchdamic.buildbin-libdir && E:\biocbuild\bbs-3.21-bioc\R\bin\R.exe CMD INSTALL --build --library=benchdamic.buildbin-libdir benchdamic_1.13.2.tar.gz StartedAt: 2025-02-10 07:16:29 -0500 (Mon, 10 Feb 2025) EndedAt: 2025-02-10 07:18:55 -0500 (Mon, 10 Feb 2025) EllapsedTime: 145.7 seconds RetCode: 0 Status: OK PackageFile: benchdamic_1.13.2.zip PackageFileSize: 2.213 MiB