Package: benchdamic Version: 1.13.2 Command: chmod a+r benchdamic -R && E:\biocbuild\bbs-3.21-bioc\R\bin\R.exe CMD build --keep-empty-dirs --no-resave-data benchdamic StartedAt: 2025-02-09 17:23:13 -0500 (Sun, 09 Feb 2025) EndedAt: 2025-02-09 17:48:26 -0500 (Sun, 09 Feb 2025) EllapsedTime: 1513.1 seconds RetCode: 0 Status: OK PackageFile: benchdamic_1.13.2.tar.gz PackageFileSize: 1.887 MiB