Package: bettr Version: 1.3.0 Command: rm -rf bettr.buildbin-libdir && mkdir bettr.buildbin-libdir && /Users/biocbuild/BBS/utils/build-universal.sh bettr_1.3.0.tar.gz /Library/Frameworks/R.framework/Resources/bin/R bettr.buildbin-libdir StartedAt: 2025-02-13 00:26:36 -0500 (Thu, 13 Feb 2025) EndedAt: 2025-02-13 00:27:14 -0500 (Thu, 13 Feb 2025) EllapsedTime: 38.2 seconds RetCode: 0 Status: OK PackageFile: bettr_1.3.0.tgz PackageFileSize: 1.73 MiB