Package: bettr Version: 1.3.0 Command: rm -rf bettr.buildbin-libdir && mkdir bettr.buildbin-libdir && E:\biocbuild\bbs-3.21-bioc\R\bin\R.exe CMD INSTALL --build --library=bettr.buildbin-libdir bettr_1.3.0.tar.gz StartedAt: 2025-02-10 07:16:42 -0500 (Mon, 10 Feb 2025) EndedAt: 2025-02-10 07:17:17 -0500 (Mon, 10 Feb 2025) EllapsedTime: 35.3 seconds RetCode: 0 Status: OK PackageFile: bettr_1.3.0.zip PackageFileSize: 1.511 MiB