Package: bettr Version: 1.3.0 Command: chmod a+r bettr -R && E:\biocbuild\bbs-3.21-bioc\R\bin\R.exe CMD build --keep-empty-dirs --no-resave-data bettr StartedAt: 2025-02-09 17:23:42 -0500 (Sun, 09 Feb 2025) EndedAt: 2025-02-09 17:24:43 -0500 (Sun, 09 Feb 2025) EllapsedTime: 61.3 seconds RetCode: 0 Status: OK PackageFile: bettr_1.3.0.tar.gz PackageFileSize: 2.363 MiB