Package: bgx Version: 1.73.0 Command: rm -rf bgx.buildbin-libdir && mkdir bgx.buildbin-libdir && /Users/biocbuild/BBS/utils/build-universal.sh bgx_1.73.0.tar.gz /Library/Frameworks/R.framework/Resources/bin/R bgx.buildbin-libdir StartedAt: 2025-02-09 22:07:03 -0500 (Sun, 09 Feb 2025) EndedAt: 2025-02-09 22:07:19 -0500 (Sun, 09 Feb 2025) EllapsedTime: 16.3 seconds RetCode: 0 Status: OK PackageFile: bgx_1.73.0.tgz PackageFileSize: 392.6 KiB