Package: bgx Version: 1.73.0 Command: /Library/Frameworks/R.framework/Resources/bin/R CMD check --install=check:bgx.install-out.txt --library=/Library/Frameworks/R.framework/Resources/library --no-vignettes --timings bgx_1.73.0.tar.gz StartedAt: 2025-02-09 18:12:37 -0500 (Sun, 09 Feb 2025) EndedAt: 2025-02-09 18:13:17 -0500 (Sun, 09 Feb 2025) EllapsedTime: 40.4 seconds RetCode: 0 Status: OK CheckDir: bgx.Rcheck Warnings: 0