Package: bgx Version: 1.73.0 Command: /home/biocbuild/R/R/bin/R CMD check --install=check:bgx.install-out.txt --library=/home/biocbuild/R/R/site-library --no-vignettes --timings bgx_1.73.0.tar.gz StartedAt: 2025-01-28 03:48:41 -0000 (Tue, 28 Jan 2025) EndedAt: 2025-01-28 03:50:36 -0000 (Tue, 28 Jan 2025) EllapsedTime: 115.1 seconds RetCode: 0 Status: OK CheckDir: bgx.Rcheck Warnings: 0