Package: bgx Version: 1.73.0 Command: /home/biocbuild/R/R/bin/R CMD INSTALL bgx StartedAt: 2025-01-29 19:40:18 -0000 (Wed, 29 Jan 2025) EndedAt: 2025-01-29 19:40:59 -0000 (Wed, 29 Jan 2025) EllapsedTime: 41.2 seconds RetCode: 0 Status: OK