Package: bgx Version: 1.73.0 Command: rm -rf bgx.buildbin-libdir && mkdir bgx.buildbin-libdir && /Users/biocbuild/BBS/utils/build-universal.sh bgx_1.73.0.tar.gz /Library/Frameworks/R.framework/Resources/bin/R bgx.buildbin-libdir StartedAt: 2025-02-10 00:43:22 -0500 (Mon, 10 Feb 2025) EndedAt: 2025-02-10 00:44:16 -0500 (Mon, 10 Feb 2025) EllapsedTime: 53.4 seconds RetCode: 0 Status: OK PackageFile: bgx_1.73.0.tgz PackageFileSize: 401.4 KiB