Package: bgx Version: 1.73.0 Command: /Library/Frameworks/R.framework/Resources/bin/R CMD build --keep-empty-dirs --no-resave-data bgx StartedAt: 2025-02-09 16:00:40 -0500 (Sun, 09 Feb 2025) EndedAt: 2025-02-09 16:01:40 -0500 (Sun, 09 Feb 2025) EllapsedTime: 60.5 seconds RetCode: 0 Status: OK PackageFile: bgx_1.73.0.tar.gz PackageFileSize: 2.619 MiB