Package: bgx Version: 1.73.0 Command: /home/biocbuild/bbs-3.21-bioc/R/bin/R CMD build --keep-empty-dirs --no-resave-data bgx StartedAt: 2025-02-09 16:19:09 -0500 (Sun, 09 Feb 2025) EndedAt: 2025-02-09 16:19:39 -0500 (Sun, 09 Feb 2025) EllapsedTime: 30.0 seconds RetCode: 1 Status: ERROR PackageFile: None PackageFileSize: NA