Package: bgx Version: 1.73.0 Command: E:\biocbuild\bbs-3.21-bioc\R\bin\R.exe CMD INSTALL bgx StartedAt: 2025-02-09 15:40:51 -0500 (Sun, 09 Feb 2025) EndedAt: 2025-02-09 15:42:06 -0500 (Sun, 09 Feb 2025) EllapsedTime: 75.7 seconds RetCode: 0 Status: OK