Package: bigmelon Version: 1.33.0 Command: rm -rf bigmelon.buildbin-libdir && mkdir bigmelon.buildbin-libdir && /Users/biocbuild/BBS/utils/build-universal.sh bigmelon_1.33.0.tar.gz /Library/Frameworks/R.framework/Resources/bin/R bigmelon.buildbin-libdir StartedAt: 2025-02-09 22:07:07 -0500 (Sun, 09 Feb 2025) EndedAt: 2025-02-09 22:07:32 -0500 (Sun, 09 Feb 2025) EllapsedTime: 24.5 seconds RetCode: 0 Status: OK PackageFile: bigmelon_1.33.0.tgz PackageFileSize: 1.203 MiB