Package: bigmelon Version: 1.33.0 Command: /Library/Frameworks/R.framework/Resources/bin/R CMD build --keep-empty-dirs --no-resave-data bigmelon StartedAt: 2025-02-09 15:39:48 -0500 (Sun, 09 Feb 2025) EndedAt: 2025-02-09 15:40:19 -0500 (Sun, 09 Feb 2025) EllapsedTime: 31.3 seconds RetCode: 0 Status: OK PackageFile: bigmelon_1.33.0.tar.gz PackageFileSize: 901.4 KiB