Package: bigmelon Version: 1.33.0 Command: /home/biocbuild/R/R/bin/R CMD build --keep-empty-dirs --no-resave-data bigmelon StartedAt: 2025-01-29 21:10:49 -0000 (Wed, 29 Jan 2025) EndedAt: 2025-01-29 21:12:36 -0000 (Wed, 29 Jan 2025) EllapsedTime: 107.0 seconds RetCode: 0 Status: OK PackageFile: bigmelon_1.33.0.tar.gz PackageFileSize: 894.4 KiB