Package: bigmelon Version: 1.33.0 Command: /home/biocbuild/R/R/bin/R CMD check --install=check:bigmelon.install-out.txt --library=/home/biocbuild/R/R/site-library --no-vignettes --timings bigmelon_1.33.0.tar.gz StartedAt: 2025-01-28 03:50:42 -0000 (Tue, 28 Jan 2025) EndedAt: 2025-01-28 08:30:03 -0000 (Tue, 28 Jan 2025) EllapsedTime: 16761.2 seconds RetCode: None Status: TIMEOUT CheckDir: bigmelon.Rcheck Warnings: NA