Package: bigmelon Version: 1.33.0 Command: rm -rf bigmelon.buildbin-libdir && mkdir bigmelon.buildbin-libdir && /Users/biocbuild/BBS/utils/build-universal.sh bigmelon_1.33.0.tar.gz /Library/Frameworks/R.framework/Resources/bin/R bigmelon.buildbin-libdir StartedAt: 2025-02-10 00:43:27 -0500 (Mon, 10 Feb 2025) EndedAt: 2025-02-10 00:44:46 -0500 (Mon, 10 Feb 2025) EllapsedTime: 79.6 seconds RetCode: 0 Status: OK PackageFile: bigmelon_1.33.0.tgz PackageFileSize: 1.203 MiB