Package: bigmelon Version: 1.33.0 Command: /Library/Frameworks/R.framework/Resources/bin/R CMD build --keep-empty-dirs --no-resave-data bigmelon StartedAt: 2025-02-12 15:59:40 -0500 (Wed, 12 Feb 2025) EndedAt: 2025-02-12 16:01:06 -0500 (Wed, 12 Feb 2025) EllapsedTime: 85.7 seconds RetCode: 0 Status: OK PackageFile: bigmelon_1.33.0.tar.gz PackageFileSize: 901.7 KiB