Package: bigmelon Version: 1.33.0 Command: /Library/Frameworks/R.framework/Resources/bin/R CMD check --install=check:bigmelon.install-out.txt --library=/Library/Frameworks/R.framework/Resources/library --no-vignettes --timings bigmelon_1.33.0.tar.gz StartedAt: 2025-02-09 19:15:58 -0500 (Sun, 09 Feb 2025) EndedAt: 2025-02-09 19:27:07 -0500 (Sun, 09 Feb 2025) EllapsedTime: 668.8 seconds RetCode: 0 Status: WARNINGS CheckDir: bigmelon.Rcheck Warnings: 5