Package: bigmelon Version: 1.33.0 Command: /Library/Frameworks/R.framework/Resources/bin/R CMD INSTALL bigmelon StartedAt: 2025-02-12 15:46:06 -0500 (Wed, 12 Feb 2025) EndedAt: 2025-02-12 15:46:47 -0500 (Wed, 12 Feb 2025) EllapsedTime: 41.3 seconds RetCode: 0 Status: OK