Package: bigmelon Version: 1.33.0 Command: /home/biocbuild/bbs-3.21-bioc/R/bin/R CMD build --keep-empty-dirs --no-resave-data bigmelon StartedAt: 2025-02-04 16:18:03 -0500 (Tue, 04 Feb 2025) EndedAt: 2025-02-04 16:19:24 -0500 (Tue, 04 Feb 2025) EllapsedTime: 81.0 seconds RetCode: 0 Status: OK PackageFile: bigmelon_1.33.0.tar.gz PackageFileSize: 901.4 KiB