Package: bigmelon Version: 1.33.0 Command: /home/biocbuild/bbs-3.21-bioc/R/bin/R CMD INSTALL bigmelon StartedAt: 2025-02-09 16:00:56 -0500 (Sun, 09 Feb 2025) EndedAt: 2025-02-09 16:01:47 -0500 (Sun, 09 Feb 2025) EllapsedTime: 50.6 seconds RetCode: 0 Status: OK