Package: bigmelon Version: 1.33.0 Command: rm -rf bigmelon.buildbin-libdir && mkdir bigmelon.buildbin-libdir && E:\biocbuild\bbs-3.21-bioc\R\bin\R.exe CMD INSTALL --build --library=bigmelon.buildbin-libdir bigmelon_1.33.0.tar.gz StartedAt: 2025-02-13 07:28:33 -0500 (Thu, 13 Feb 2025) EndedAt: 2025-02-13 07:30:21 -0500 (Thu, 13 Feb 2025) EllapsedTime: 107.6 seconds RetCode: 0 Status: OK PackageFile: bigmelon_1.33.0.zip PackageFileSize: 1.205 MiB