Package: bigmelon Version: 1.33.0 Command: chmod a+r bigmelon -R && E:\biocbuild\bbs-3.21-bioc\R\bin\R.exe CMD build --keep-empty-dirs --no-resave-data bigmelon StartedAt: 2025-02-12 17:27:19 -0500 (Wed, 12 Feb 2025) EndedAt: 2025-02-12 17:29:33 -0500 (Wed, 12 Feb 2025) EllapsedTime: 133.9 seconds RetCode: 0 Status: OK PackageFile: bigmelon_1.33.0.tar.gz PackageFileSize: 902.4 KiB