Package: bioDist Version: 1.79.0 Command: rm -rf bioDist.buildbin-libdir && mkdir bioDist.buildbin-libdir && /Users/biocbuild/BBS/utils/build-universal.sh bioDist_1.79.0.tar.gz /Library/Frameworks/R.framework/Resources/bin/R bioDist.buildbin-libdir StartedAt: 2025-02-09 22:07:31 -0500 (Sun, 09 Feb 2025) EndedAt: 2025-02-09 22:07:33 -0500 (Sun, 09 Feb 2025) EllapsedTime: 2.0 seconds RetCode: 0 Status: OK PackageFile: bioDist_1.79.0.tgz PackageFileSize: 255.5 KiB