Package: bioDist Version: 1.79.0 Command: /Library/Frameworks/R.framework/Resources/bin/R CMD build --keep-empty-dirs --no-resave-data bioDist StartedAt: 2025-02-12 15:42:13 -0500 (Wed, 12 Feb 2025) EndedAt: 2025-02-12 15:42:20 -0500 (Wed, 12 Feb 2025) EllapsedTime: 7.1 seconds RetCode: 0 Status: OK PackageFile: bioDist_1.79.0.tar.gz PackageFileSize: 204.6 KiB