Package: bioDist Version: 1.79.0 Command: /Library/Frameworks/R.framework/Resources/bin/R CMD check --install=check:bioDist.install-out.txt --library=/Library/Frameworks/R.framework/Resources/library --no-vignettes --timings bioDist_1.79.0.tar.gz StartedAt: 2025-02-09 18:17:12 -0500 (Sun, 09 Feb 2025) EndedAt: 2025-02-09 18:17:25 -0500 (Sun, 09 Feb 2025) EllapsedTime: 13.2 seconds RetCode: 0 Status: OK CheckDir: bioDist.Rcheck Warnings: 0