Package: bioDist Version: 1.79.0 Command: /home/biocbuild/R/R/bin/R CMD build --keep-empty-dirs --no-resave-data bioDist StartedAt: 2025-01-28 21:18:19 -0000 (Tue, 28 Jan 2025) EndedAt: 2025-01-28 21:18:40 -0000 (Tue, 28 Jan 2025) EllapsedTime: 21.0 seconds RetCode: 0 Status: OK PackageFile: bioDist_1.79.0.tar.gz PackageFileSize: 205.3 KiB