Package: bioDist Version: 1.79.0 Command: /home/biocbuild/bbs-3.21-bioc/R/bin/R CMD check --install=check:bioDist.install-out.txt --library=/home/biocbuild/bbs-3.21-bioc/R/site-library --timings bioDist_1.79.0.tar.gz StartedAt: 2025-02-09 20:26:25 -0500 (Sun, 09 Feb 2025) EndedAt: 2025-02-09 20:27:03 -0500 (Sun, 09 Feb 2025) EllapsedTime: 38.0 seconds RetCode: 0 Status: OK CheckDir: bioDist.Rcheck Warnings: 0