Package: bioDist Version: 1.79.0 Command: /home/biocbuild/bbs-3.21-bioc/R/bin/R CMD INSTALL bioDist StartedAt: 2025-02-12 15:13:22 -0500 (Wed, 12 Feb 2025) EndedAt: 2025-02-12 15:13:25 -0500 (Wed, 12 Feb 2025) EllapsedTime: 2.9 seconds RetCode: 0 Status: OK