Package: bioDist Version: 1.79.0 Command: rm -rf bioDist.buildbin-libdir && mkdir bioDist.buildbin-libdir && E:\biocbuild\bbs-3.21-bioc\R\bin\R.exe CMD INSTALL --build --library=bioDist.buildbin-libdir bioDist_1.79.0.tar.gz StartedAt: 2025-02-10 07:19:07 -0500 (Mon, 10 Feb 2025) EndedAt: 2025-02-10 07:19:22 -0500 (Mon, 10 Feb 2025) EllapsedTime: 15.5 seconds RetCode: 0 Status: OK PackageFile: bioDist_1.79.0.zip PackageFileSize: 167.8 KiB