Package: bioDist Version: 1.79.0 Command: chmod a+r bioDist -R && E:\biocbuild\bbs-3.21-bioc\R\bin\R.exe CMD build --keep-empty-dirs --no-resave-data bioDist StartedAt: 2025-02-09 17:30:51 -0500 (Sun, 09 Feb 2025) EndedAt: 2025-02-09 17:31:21 -0500 (Sun, 09 Feb 2025) EllapsedTime: 30.2 seconds RetCode: 0 Status: OK PackageFile: bioDist_1.79.0.tar.gz PackageFileSize: 114.2 KiB