Package: bioDist Version: 1.79.0 Command: E:\biocbuild\bbs-3.21-bioc\R\bin\R.exe CMD check --no-multiarch --install=check:bioDist.install-out.txt --library=E:\biocbuild\bbs-3.21-bioc\R\library --no-vignettes --timings bioDist_1.79.0.tar.gz StartedAt: 2025-02-09 23:05:00 -0500 (Sun, 09 Feb 2025) EndedAt: 2025-02-09 23:05:36 -0500 (Sun, 09 Feb 2025) EllapsedTime: 36.4 seconds RetCode: 0 Status: OK CheckDir: bioDist.Rcheck Warnings: 0