Package: bioassayR Version: 1.45.0 Maintainer: Thomas Girke MaintainerEmail: tgirke at citrus.ucr.edu git_url: https://git.bioconductor.org/packages/bioassayR git_branch: devel git_last_commit: 248466e git_last_commit_date: 2024-10-29 09:48:31 -0500 (Tue, 29 Oct 2024)