Package: bioassayR Version: 1.45.0 Command: rm -rf bioassayR.buildbin-libdir && mkdir bioassayR.buildbin-libdir && /Users/biocbuild/BBS/utils/build-universal.sh bioassayR_1.45.0.tar.gz /Library/Frameworks/R.framework/Resources/bin/R bioassayR.buildbin-libdir StartedAt: 2025-02-12 22:12:10 -0500 (Wed, 12 Feb 2025) EndedAt: 2025-02-12 22:12:16 -0500 (Wed, 12 Feb 2025) EllapsedTime: 6.1 seconds RetCode: 0 Status: OK PackageFile: bioassayR_1.45.0.tgz PackageFileSize: 1.037 MiB