Package: bioassayR Version: 1.45.0 Command: /Library/Frameworks/R.framework/Resources/bin/R CMD build --keep-empty-dirs --no-resave-data bioassayR StartedAt: 2025-02-12 15:39:56 -0500 (Wed, 12 Feb 2025) EndedAt: 2025-02-12 15:40:11 -0500 (Wed, 12 Feb 2025) EllapsedTime: 15.2 seconds RetCode: 0 Status: OK PackageFile: bioassayR_1.45.0.tar.gz PackageFileSize: 1.38 MiB