Package: bioassayR Version: 1.45.0 Command: /Library/Frameworks/R.framework/Resources/bin/R CMD INSTALL bioassayR StartedAt: 2025-02-09 15:26:20 -0500 (Sun, 09 Feb 2025) EndedAt: 2025-02-09 15:26:25 -0500 (Sun, 09 Feb 2025) EllapsedTime: 5.4 seconds RetCode: 0 Status: OK