Package: bioassayR Version: 1.45.0 Command: /home/biocbuild/R/R/bin/R CMD INSTALL bioassayR StartedAt: 2025-01-29 20:29:49 -0000 (Wed, 29 Jan 2025) EndedAt: 2025-01-29 20:30:06 -0000 (Wed, 29 Jan 2025) EllapsedTime: 16.3 seconds RetCode: 0 Status: OK