Package: bioassayR Version: 1.45.0 Command: /Library/Frameworks/R.framework/Resources/bin/R CMD build --keep-empty-dirs --no-resave-data bioassayR StartedAt: 2025-02-09 16:01:40 -0500 (Sun, 09 Feb 2025) EndedAt: 2025-02-09 16:02:37 -0500 (Sun, 09 Feb 2025) EllapsedTime: 57.1 seconds RetCode: 0 Status: OK PackageFile: bioassayR_1.45.0.tar.gz PackageFileSize: 1.375 MiB