Package: bioassayR Version: 1.45.0 Command: /Library/Frameworks/R.framework/Resources/bin/R CMD check --install=check:bioassayR.install-out.txt --library=/Library/Frameworks/R.framework/Resources/library --no-vignettes --timings bioassayR_1.45.0.tar.gz StartedAt: 2025-02-09 19:16:39 -0500 (Sun, 09 Feb 2025) EndedAt: 2025-02-09 19:18:17 -0500 (Sun, 09 Feb 2025) EllapsedTime: 98.1 seconds RetCode: 0 Status: OK CheckDir: bioassayR.Rcheck Warnings: 0