Package: bioassayR Version: 1.45.0 Command: E:\biocbuild\bbs-3.21-bioc\R\bin\R.exe CMD check --no-multiarch --install=check:bioassayR.install-out.txt --library=E:\biocbuild\bbs-3.21-bioc\R\library --no-vignettes --timings bioassayR_1.45.0.tar.gz StartedAt: 2025-02-04 23:21:55 -0500 (Tue, 04 Feb 2025) EndedAt: 2025-02-04 23:23:37 -0500 (Tue, 04 Feb 2025) EllapsedTime: 102.7 seconds RetCode: 0 Status: OK CheckDir: bioassayR.Rcheck Warnings: 0